Workbook

Sheet Instructions
A1: Nebraska Investment Finance Authority
A2: Low Income Housing Tax Credit Program
A4: Instructions for
A5: Calculation of Qualified Contract Price
A9: In order for NIFA to assist in making information available to potential purchasers for your project, you must complete the Calculation of Qualified Contract Price form attached to these instructions (the “Calculation Form”). This calculation will establish the price at which your project will be offered for purchase.
A10: To complete the Calculation Form, you must complete Worksheets A through E, and the CPI Worksheet. The results of Worksheets A through E, and the CPI Worksheet are transferred to the Calculation Form to determine the Qualified Contract Price for the project.
A11: The Calculation Form is derived from a statutory formula set forth in Section 42(h)(6)(F) of the Internal Revenue Code. The statutory formula divides the purchase price between the low income portion of the project and the market rate portion of the project, if any. The Qualified Contract Price for the low income portion of the project is equal to the sum of project indebtedness (Worksheet A), investor equity (Worksheet B), and other capital contributions (Worksheet C) reduced by the total cash that has been distributed, or is available for distribution, from the project (Worksheet D). If the project has any market rate units, the Qualified Contract Price is increased by the fair market value of those units and land underlying the entire building(s), including the land underlying the low-income portion of the building(s) (Worksheet E). Determine Cost of living Adjustment % (CPI Worksheet).
A12: Note: The twelve month period in which NIFA has, if it so chooses, to identify a buyer for your project will not commence until the Calculation Form, and Worksheets A through E, are completed and returned to NIFA with the notification letter and all other required materials. The Calculation Form must be prepared or approved (in writing) by a third party accountant or similarly qualified professional.
A13: If you have any questions with respect to the preparation of the Calculation Form and Worksheets, you are encouraged to contact the Tax Credit Compliance Department at txcr.multifamily@nifa.org.

Sheet Calculation of QCP
A1: Calculation of Qualified Contract Price
A2: IRC Section 42(h)(6)(F)
C4: As of
A7: A. | B7: Calculation of Low-Income Portion of Payment:
B9: (i) | C9: Outstanding Indebtedness secured by or with respect to the Buildings (from Worksheet A) | G9: ='A. Outstanding Indebtedness'!K69 -> 0
B11: (ii) | C11: Adjusted Investor Equity (from Worksheet B) | G11: ='B. Adjusted Investor Equity'!E79 -> 0
B13: (iii) | C13: Other Capital Contributions not reflected in (i) or (ii) (from Worksheet C) | G13: ='C. Other Capital Contributions'!H37 -> 0
B15: (iv) | C15: Total of (i), (ii) and (iii) | G15: =SUM(G9:G14) -> 0
B17: (v) | C17: Cash Distributions from or available from the Project (from Worksheet D) | G17: ='D. Cash Distributions'!P107 -> 0
B19: (vi) | C19: Line (iv) reduced by Line (v) | G19: =G15-G17 -> 0
B21: (vii) | C21: Applicable fraction (as set forth in the Tax Credit Regulatory Agreement)
B23: (viii) | C23: Low-Income Portion of Qualified Contract Price (Line (vi) multiplied by Line (vii)) | G23: =G19*G21 -> 0
A26: B. | B26: Fair Market Value of Non Low-Income Portion of Building(s) and Land (from Worksheet E) | G26: ='E. Fair Market Value'!I16 -> 0
B29: Qualified Contract Price (Sum of Line A (viii) and Line B) | G29: =SUM(G23:G28) -> 0
B41: Prepared by:
C45: Signature
B48: Title:
B50: Date:

Sheet A. Outstanding Indebtedness
A1: Nebraska Investment Finance Authority
A2: Low Income Housing Tax Credit Program
A4: WORKSHEET A
A5: Outstanding Indebtedness With Respect to Low-Income Buildings(s)
A6: Code Section 42(h)(6)(F)(i)(I)
A8: Instructions
A9: The Qualified Contract Price includes the unpaid balance of all secured and unsecured indebtedness with respect to the low income buildings. Worksheet A requires you to set forth certain information with respect to each mortgage loan and other project indebtedness: the name of the lender, the unpaid principal balance, the accrued interest, the maturity date, and other relevant information.
A10: In the box marked “Other Information,” please set forth any information with respect to that particular loan that may be relevant to NIFA’s efforts to assist in locating a purchaser for the project. Examples of relevant information include whether the loan has a “due on sale” clause or if any portion of the loan is payable from net cash flow (i.e., is “soft” debt).
A11: Also attach to this Worksheet A an amortization schedule and a statement showing the current balance for each loan.
A12: In addition to mortgage indebtedness, list any unsecured, long term debt the proceeds of which were used directly in the construction, rehabilitation, or operations of the project.
A13: The unpaid principal balance and accrued interest for each loan set forth on this Worksheet A should be totaled and that total should be transferred to Section A(i) of the Calculation Form.
A14: Any refinancing indebtedness or additional mortgages in excess of qualifying building costs do not qualify as outstanding indebtedness for purposes of Section 42(h)(6)(F) and are therefore, not included in the calculation of the Qualified Contract Price.
A16: First Mortgage Loan:
B17: Lender:
B18: Principal Balance
B19: Accrued Interest
B20: Maturity Date
B21: Other Information
J24: Subtotal | K24: =SUM(K18:K19) -> 0
A26: Second Mortgage Loan:
B27: Lender:
B28: Principal Balance
B29: Accrued Interest
B30: Maturity Date
B31: Other Information
J34: Subtotal | K34: =SUM(K28:K29) -> 0
A36: Third Mortgage Loan:
B37: Lender:
B38: Principal Balance
B39: Accrued Interest
B40: Maturity Date
B41: Other Information
J44: Subtotal | K44: =SUM(K38:K39) -> 0
A47: Fourth Mortgage Loan:
B48: Lender:
B49: Principal Balance
B50: Accrued Interest
B51: Maturity Date
B52: Other Information
J55: Subtotal | K55: =SUM(K49:K50) -> 0
...

Sheet B. Adjusted Investor Equity
A1: Nebraska Investment Finance Authority
A2: Low Income Housing Tax Credit Program
A4: Worksheet B
A5: Calculation of Adjusted Investor Equity In the Low-Income Building(s)
A6: Code Section 42 (h)(6)(F)(i)(II)
A8: Instructions
A9: The Qualified Contract Price includes the sum of the “Adjusted Investor Equity” with respect to the project. “Adjusted Investor Equity” means, with respect to each calendar year, the aggregate amount of cash that taxpayers invested with respect to the low income buildings, increased by the applicable cost of living adjustment, if any.
A10: Not all capital contributions with respect to the project qualify as “Adjusted Investor Equity.” Specifically, cash invested in the project should be included in this Worksheet B only if each of the following is true:
A11: (i) | B11: The cash is contributed as a capital contribution and not as a loan or advance;
A12: (ii) | B12: the amount is reflected in the adjusted basis of the project (until there is further guidance from the Internal Revenue Service, NIFA will interpret this to mean cash contributions used to directly fund adjusted basis and cash contributions used to pay off a construction or bridge loan the proceeds of which directly funded adjusted basis); and
A13: (iii) | B13: there was an obligation to invest the amount as of the beginning of the credit period (until there is further guidance from the Internal Revenue Service, NIFA will interpret this to include cash actually invested before the beginning of the credit period and cash invested after the beginning of the credit period for which there was an obligation to invest at the beginning of the credit period).
A14: With respect to Worksheet B, for each calendar year you are required to set forth the identity of the investor. Typically, this will be the tax credit investor (i.e., the investor limited partner); however, it may include a general partner if the cash investment by a general partner otherwise satisfies the requirements set forth above.
A15: You are also required to set forth the amount of qualifying cash equity that was invested in the project for that calendar year. This amount should include only cash that was actually contributed to the project that year; it should not include amounts for which there was a mere obligation to invest.
A16: The cost of living adjustment should be set forth for each calendar year. Investment amounts qualifying as investor equity are entitled to a cost of living adjustment. The applicable cost of living adjustment for each year should be calculated based on the Consumer Price Index – All Urban Consumers available through the U.S. Department of Labor, Bureau of Labor Statistics. Pursuant to Sections 1(f) and 42(h)(6)(G)(II) of the Code, the CPI adjustment is calculated for each twelve month period ending August 31st. Accordingly, in September of each year, the cost of living Adjustment must be recalculated.
A17: For each calendar year, the amount of “Adjusted Investor Equity” is the sum of the qualifying investment amount and the cost of living adjustment. After calculating the investment amount and cost of living adjustment, if any, for each year, these amounts must be totaled and set forth on this Worksheet B. This total is then transferred to Section A(ii) of the Calculation Form.
A21: Year | C21: Adjusted Investor Equity | J21: Year | L21: Adjusted Investor Equity
C22: Investor: | L22: Investor:
C23: Investment Amount | L23: Investment Amount
C24: Cost of Living Adjustment % | L24: Cost of Living Adjustment %
C25: Cost of Living Increase | H25: =H23*F24 -> 0 | L25: Cost of Living Increase | Q25: =Q23*O24 -> 0
G27: Subtotal | H27: =SUM(H23,H25) -> 0 | P27: Subtotal | Q27: =SUM(Q23,Q25) -> 0
A29: Year | C29: Adjusted Investor Equity | J29: Year | L29: Adjusted Investor Equity
C30: Investor: | L30: Investor:
C31: Investment Amount | L31: Investment Amount
C32: Cost of Living Adjustment % | L32: Cost of Living Adjustment %
C33: Cost of Living Increase | H33: =H31*F32 -> 0 | L33: Cost of Living Increase | Q33: =Q31*O32 -> 0
G35: Subtotal | H35: =SUM(H31,H33) -> 0 | P35: Subtotal | Q35: =SUM(Q31,Q33) -> 0
A37: Year | C37: Adjusted Investor Equity | J37: Year | L37: Adjusted Investor Equity
C38: Investor: | L38: Investor:
C39: Investment Amount | L39: Investment Amount
C40: Cost of Living Adjustment % | L40: Cost of Living Adjustment %
C41: Cost of Living Increase | H41: =H39*F40 -> 0 | L41: Cost of Living Increase | Q41: =Q39*O40 -> 0
G43: Subtotal | H43: =SUM(H39,H41) -> 0 | P43: Subtotal | Q43: =SUM(Q39,Q41) -> 0
A46: Year | C46: Adjusted Investor Equity | J46: Year | L46: Adjusted Investor Equity
C47: Investor: | L47: Investor:
C48: Investment Amount | L48: Investment Amount
C49: Cost of Living Adjustment % | L49: Cost of Living Adjustment %
C50: Cost of Living Increase | H50: =H48*F49 -> 0 | L50: Cost of Living Increase | Q50: =Q48*O49 -> 0
G52: Subtotal | H52: =SUM(H48,H50) -> 0 | P52: Subtotal | Q52: =SUM(Q48,Q50) -> 0
A54: Year | C54: Adjusted Investor Equity | J54: Year | L54: Adjusted Investor Equity
...

Sheet C. Other Capital Contributions
A1: Nebraska Investment Finance Authority
A2: Low Income Housing Tax Credit Program
A4: WORKSHEET C
A5: Other Capital Contributions
A6: Code Section 42(h)(6)(F)(i)(III)
A8: Instructions
A9: The Qualified Contract Price includes the amount of other capital contributions made with respect to the project. For this purpose, “other capital contributions” are not limited to cash (at least until there is contrary guidance from the Internal Revenue Service) and, therefore, include “in kind” contributions such as land. However, if you include any non-cash contributions in this Worksheet C, please describe in detail the type of contribution, the value you have assigned to the contribution, and your justification for assigning that value.
A10: Do Not include in this Worksheet C any amounts included in Worksheets A or B. Further, all amounts included in this Worksheet C must constitute contributed capital and not be a debt or advance.
A11: After setting forth the required information with respect to each contribution, please total the contribution amounts and then transfer the total to Section A(iii) of the Calculation Form.
E13: Investment Amount
F14: Name of Investor:
F15: Date of Investment
F16: Use of Contributions/Proceeds:
F18: Other Information:
E21: Investment Amount
F22: Name of Investor:
F23: Date of Investment
F24: Use of Contributions/Proceeds:
F26: Other Information:
E29: Investment Amount
F30: Name of Investor:
F31: Date of Investment
F32: Use of Contributions/Proceeds:
F34: Other Information:
E37: Total of Other Contributions | H37: =SUM(J13,J21,J29) -> 0

Sheet D. Cash Distributions
A1: Nebraska Investment Finance Authority
A2: Low Income Housing Tax Credit Program
A3: WORKSHEET D
A4: Cash Distributions From, or available from, the Project
A5: Code Section 42(h)(6)(F)(ii)
A6: Instructions
A7: The Qualified Contract Price is reduced by the total of all cash distributions from, or available from, the project. To assist you in this calculation, Worksheet D is divided into three sections.
A8: In Section A, set forth all cash distributions with respect to the project for each of the fourteen calendar years of the Project. Generally, this will include all cash payments and distributions from net operating income (i.e., “below the line” distributions and payments, after the payment of operating expenses, debt service, and reserve). Distributions set forth in Section A of Worksheet D will include, but not be limited to, (i) amounts paid to partners or affiliates as fees (including investor fees, partnership management fees, incentive management fees and guaranty fees) and (ii) amounts distributed to partners as a return of capital or otherwise. Until guidance is provided by the Internal Revenue Service, NIFA will not reduce the Qualified Contract Price by payments of deferred Developer Fee to the extent the amount of such fee was within NIFA’s guidelines. NIFA requires, however, that you list all payments and distributions from net cash flow. If you believe any portion of a payment or distribution should be excluded from the calculation (such as deferred Developer Fee), please identify such payments or distributions and provide an explanation of why it should be excluded.
A9: Section A of Worksheet D provides for up to five (5) types of distributions of net operating income for each year. If there were more in any calendar year, you will need to attach an addendum to Worksheet D setting forth the recipient, characterization and amount of such distribution.
A10: The Qualified Contract Price is reduced not only by cash distributions made with respect to the project but also all cash that is available for distribution. In Section B you are required to set forth amounts held in reserve and other project accounts and the amounts thereof that are available for distribution. Until such time as guidance is provided by the Internal Revenue Service, NIFA will interpret “available for distribution” to mean all cash held in project accounts the distribution of which is not prohibited by mortgage restrictions, regulatory agreements or similar third party contractual prohibitions. An amount currently held in a project account that will become unrestricted and available for distribution on or before the expiration of the one year qualified contract period should be listed as available for distribution in Section B.
A11: Finally, Section C requires you to set forth and describe any non cash distributions that have been made with respect to the project. Absent unusual circumstances, the amount of “non cash distributions” will not be applied to reduce the Qualified Contract Price (until contrary guidance from the Internal Revenue Service).
A12: To complete Worksheet D, total the qualifying cash distributed for all calendar years under Section A and the cash available (or that will be available) for distribution in Section B. The total of Sections A and B should be transferred to Section A(v) of the Calculation Form.
A15: Section A. | C15: Cash Distributed
A18: Year | C18: Distributions | J18: Year | L18: Distributions
B19: Total Distributions | K19: Total Distributions
B20: Recipient: | K20: Recipient:
B21: Characterization of Distribution: | K21: Characterization of Distribution:
A25: Year | C25: Distributions | J25: Year | L25: Distributions
B26: Total Distributions | K26: Total Distributions
B27: Recipient: | K27: Recipient:
B28: Characterization of Distribution: | K28: Characterization of Distribution:
A32: Year | C32: Distributions | J32: Year | L32: Distributions
B33: Total Distributions | K33: Total Distributions
B34: Recipient: | K34: Recipient:
B35: Characterization of Distribution: | K35: Characterization of Distribution:
A39: Year | C39: Distributions | J39: Year | L39: Distributions
B40: Total Distributions | K40: Total Distributions
B41: Recipient: | K41: Recipient:
B42: Characterization of Distribution: | K42: Characterization of Distribution:
A46: Year | C46: Distributions | J46: Year | L46: Distributions
B47: Total Distributions | K47: Total Distributions
B48: Recipient: | K48: Recipient:
B49: Characterization of Distribution: | K49: Characterization of Distribution:
A53: Year | C53: Distributions | J53: Year | L53: Distributions
B54: Total Distributions | K54: Total Distributions
B55: Recipient: | K55: Recipient:
B56: Characterization of Distribution: | K56: Characterization of Distribution:
A60: Year | C60: Distributions | J60: Year | L60: Distributions
B61: Total Distributions | K61: Total Distributions
B62: Recipient: | K62: Recipient:
...

Sheet E. Fair Market Value
A1: Nebraska Investment Finance Authority
A2: Low Income Housing Tax Credit Program
A4: WORKSHEET E
A5: Fair Market Value on Non Low Income Portion of Building(s) and Land
A9: Attach to this worksheet the appraisal for the fair market value of the non-low income portion of the building(s) and land underlying the entire building(s), including the land underlying the low-income portion of the building(s). The fair market value set forth below should be transferred to Section B of the Calculation Form.
A11: The fair market value of the non-low income portion of the project building is:
A13: The fair market value of the land:
G16: TOTAL: | I16: =SUM(I11:I13) -> 0

Sheet CPI
A1: Consumer Price Index for All Urban Consumers (CPI-U)
A2: Original Data Value
A4: Series Id: | B4: CUUR0000SA0
A5: Not Seasonally Adjusted
A6: Series Title: | B6: All items in U.S. city average, all urban consumers, not seasonally adjusted
A7: Area: | B7: U.S. city average | H7: https://data.bls.gov/cgi-bin/surveymost?bls
A8: Item: | B8: All items
A9: Base Period: | B9: 1982-84=100
A10: Years: | B10: 1990 to 2024
A12: Year | B12: Jan | C12: Feb | D12: Mar | E12: Apr | F12: May | G12: Jun | H12: Jul | I12: Aug | J12: Sep | K12: Oct | L12: Nov | M12: Dec | N12: HALF1 | O12: HALF2
A13: 1990 | B13: 127.4 | C13: 128 | D13: 128.7 | E13: 128.9 | F13: 129.2 | G13: 129.9 | H13: 130.4 | I13: 131.6 | J13: 132.7 | K13: 133.5 | L13: 133.8 | M13: 133.8 | N13: 128.7 | O13: 132.6
A14: 1991 | B14: 134.6 | C14: 134.8 | D14: 135 | E14: 135.2 | F14: 135.6 | G14: 136 | H14: 136.2 | I14: 136.6 | J14: 137.2 | K14: 137.4 | L14: 137.8 | M14: 137.9 | N14: 135.2 | O14: 137.2
A15: 1992 | B15: 138.1 | C15: 138.6 | D15: 139.3 | E15: 139.5 | F15: 139.7 | G15: 140.2 | H15: 140.5 | I15: 140.9 | J15: 141.3 | K15: 141.8 | L15: 142 | M15: 141.9 | N15: 139.2 | O15: 141.4
A16: 1993 | B16: 142.6 | C16: 143.1 | D16: 143.6 | E16: 144 | F16: 144.2 | G16: 144.4 | H16: 144.4 | I16: 144.8 | J16: 145.1 | K16: 145.7 | L16: 145.8 | M16: 145.8 | N16: 143.7 | O16: 145.3
A17: 1994 | B17: 146.2 | C17: 146.7 | D17: 147.2 | E17: 147.4 | F17: 147.5 | G17: 148 | H17: 148.4 | I17: 149 | J17: 149.4 | K17: 149.5 | L17: 149.7 | M17: 149.7 | N17: 147.2 | O17: 149.3
A18: 1995 | B18: 150.3 | C18: 150.9 | D18: 151.4 | E18: 151.9 | F18: 152.2 | G18: 152.5 | H18: 152.5 | I18: 152.9 | J18: 153.2 | K18: 153.7 | L18: 153.6 | M18: 153.5 | N18: 151.5 | O18: 153.2
A19: 1996 | B19: 154.4 | C19: 154.9 | D19: 155.7 | E19: 156.3 | F19: 156.6 | G19: 156.7 | H19: 157 | I19: 157.3 | J19: 157.8 | K19: 158.3 | L19: 158.6 | M19: 158.6 | N19: 155.8 | O19: 157.9
A20: 1997 | B20: 159.1 | C20: 159.6 | D20: 160 | E20: 160.2 | F20: 160.1 | G20: 160.3 | H20: 160.5 | I20: 160.8 | J20: 161.2 | K20: 161.6 | L20: 161.5 | M20: 161.3 | N20: 159.9 | O20: 161.2
A21: 1998 | B21: 161.6 | C21: 161.9 | D21: 162.2 | E21: 162.5 | F21: 162.8 | G21: 163 | H21: 163.2 | I21: 163.4 | J21: 163.6 | K21: 164 | L21: 164 | M21: 163.9 | N21: 162.3 | O21: 163.7
A22: 1999 | B22: 164.3 | C22: 164.5 | D22: 165 | E22: 166.2 | F22: 166.2 | G22: 166.2 | H22: 166.7 | I22: 167.1 | J22: 167.9 | K22: 168.2 | L22: 168.3 | M22: 168.3 | N22: 165.4 | O22: 167.8
A23: 2000 | B23: 168.8 | C23: 169.8 | D23: 171.2 | E23: 171.3 | F23: 171.5 | G23: 172.4 | H23: 172.8 | I23: 172.8 | J23: 173.7 | K23: 174 | L23: 174.1 | M23: 174 | N23: 170.8 | O23: 173.6
A24: 2001 | B24: 175.1 | C24: 175.8 | D24: 176.2 | E24: 176.9 | F24: 177.7 | G24: 178 | H24: 177.5 | I24: 177.5 | J24: 178.3 | K24: 177.7 | L24: 177.4 | M24: 176.7 | N24: 176.6 | O24: 177.5
... A47: 2024 | B47: 308.417 | C47: 310.326 | D47: 312.332 | E47: 313.548 | F47: 314.069 | G47: 314.175 | H47: 314.54 | I47: 314.796 | J47: 315.301 | K47: 315.664 | L47: 315.493 | M47: 315.605 | N47: 312.145 | O47: 315.233
A48: 2025 | B48: 317.671 | C48: 319.082 | D48: 319.799 | E48: 320.795 | F48: 321.465 | G48: 322.561
B50: Procedures to Determine Cost of Living (COL) Adjustment %:
B52: 1 | C52: Determine year property was Placed in Service (PIS) - obtained from the property's 8609
B53: 2 | C53: Determine base year - September 30th - August 31 of the PIS year
B54: 3 | C54: Numerator is the sum of the 12 monthly CPI values whose average is the CPI for the calendar year that precedes the calendar year in which the Agency offers the building for sale to the general public. August 31 should be used as the last month of the calculation. Example: written request in 2024, you'd use September 2022 to August 2023.
B55: 4 | C55: Denominator - is the sum of the 12 monthly CPI values whose average is the CPI for the base calendar year. Base calendar year is determined as the year the last building was placed in service and tax credits were claimed. August 31st should be used as the last month of the calculation. Example: Property PIS 1999, you'd use September 1998 to August 1999.
B56: 5 | C56: Determine cumulative COL increases > 5% if applicable Add Excess to Denominator
B57: 6 | C57: Quotient is to be carried out 10 decimal places.
C60: PIS Yr | E60: Change | I60: Example: Property placed in service 1999; In 2024 owner submitted request
C61: (Sept - Aug) | E61: >5% | J61: to Agency to find a buyer
B62: Year
B63: 1990 | C63: - | I63: Calculation: | O63: COLA %
A64: (Sept '90 - Aug 91) | B64: 1991 | C64: =SUM(J13:M13)+SUM(B14:I14) -> 1617.8 | I64: (Sum September '22 COL% - August '23 COL %) | N64: =C96 -> 3616.49 | O64: =N64/N65 -> 1.8249432
A65: (Sept '91 - Aug 92) | B65: 1992 | C65: =SUM(J14:M14)+SUM(B15:I15) -> 1667.1 | D65: =C65-C64 -> 49.3 | E65: =D65/C64 -> 0.030473483 | I65: (Base Year September '98- August '99 (PIS yr) | N65: =C72 -> 1981.7
A66: (Sept '92 - Aug 93) | B66: 1993 | C66: =SUM(J15:M15)+SUM(B16:I16) -> 1718.1 | D66: =C66-C65 -> 51 | E66: =D66/C65 -> 0.030592046 | J66: + cumulative COL increases > 5%)
A67: (Sept '93 - Aug 94) | B67: 1994 | C67: =SUM(J16:M16)+SUM(B17:I17) -> 1762.8 | D67: =C67-C66 -> 44.7 | E67: =D67/C66 -> 0.026017112
A68: (Sept '94 - Aug 95) | B68: 1995 | C68: =SUM(J17:M17)+SUM(B18:I18) -> 1812.9 | D68: =C68-C67 -> 50.1 | E68: =D68/C67 -> 0.028420694
...
